BEGIN:VCALENDAR
VERSION:2.0
PRODID:-//Rochester Philharmonic Orchestra - ECPv6.15.20//NONSGML v1.0//EN
CALSCALE:GREGORIAN
METHOD:PUBLISH
X-WR-CALNAME:Rochester Philharmonic Orchestra
X-ORIGINAL-URL:https://rpo.org
X-WR-CALDESC:Events for Rochester Philharmonic Orchestra
REFRESH-INTERVAL;VALUE=DURATION:PT1H
X-Robots-Tag:noindex
X-PUBLISHED-TTL:PT1H
BEGIN:VTIMEZONE
TZID:America/New_York
BEGIN:DAYLIGHT
TZOFFSETFROM:-0500
TZOFFSETTO:-0400
TZNAME:EDT
DTSTART:20260308T070000
END:DAYLIGHT
BEGIN:STANDARD
TZOFFSETFROM:-0400
TZOFFSETTO:-0500
TZNAME:EST
DTSTART:20261101T060000
END:STANDARD
BEGIN:DAYLIGHT
TZOFFSETFROM:-0500
TZOFFSETTO:-0400
TZNAME:EDT
DTSTART:20270314T070000
END:DAYLIGHT
BEGIN:STANDARD
TZOFFSETFROM:-0400
TZOFFSETTO:-0500
TZNAME:EST
DTSTART:20271107T060000
END:STANDARD
BEGIN:DAYLIGHT
TZOFFSETFROM:-0500
TZOFFSETTO:-0400
TZNAME:EDT
DTSTART:20280312T070000
END:DAYLIGHT
BEGIN:STANDARD
TZOFFSETFROM:-0400
TZOFFSETTO:-0500
TZNAME:EST
DTSTART:20281105T060000
END:STANDARD
END:VTIMEZONE
BEGIN:VEVENT
DTSTART;TZID=America/New_York:20270305T190000
DTEND;TZID=America/New_York:20270305T203000
DTSTAMP:20260424T065757
CREATED:20260325T183631Z
LAST-MODIFIED:20260413T122940Z
UID:10000357-1804273200-1804278600@rpo.org
SUMMARY:PHILS SPECIAL: Jeff Beal Scores Metropolis
DESCRIPTION:100 years after its premiere\, experience Fritz Lang’s iconic silent film Metropolis (1927) in a way you’ve never seen—or heard—before. Composer Jeff Beal joins the Rochester Philharmonic Orchestra and members of the Eastman Philharmonia to perform his electrifying score live\, transforming Kodak Hall into a fully immersive cinematic world. Pulsing rhythms\, dramatic textures\, and intricate orchestration bring the futuristic city and its unforgettable characters vividly to life. This one-night-only event fuses film\, jazz\, and symphonic storytelling\, creating a feast for the ears and a visual spectacle. Witness a powerful collaboration between Rochester’s leading orchestras as they bridge century-old cinema with contemporary composition.
URL:https://rpo.org/event/phils-special-jeff-beal-scores-metropolis/
LOCATION:Kodak Hall at Eastman Theatre\, 60 Gibbs Street\, Rochester\, NY\, 14604\, United States
CATEGORIES:Philharmonics,Specials & Holidays
ATTACH;FMTTYPE=image/png:https://rpo.org/wp-content/uploads/2026/03/RPO_WEBSITE_933x933_2627_Feature-Image_PHILS_12.png
END:VEVENT
END:VCALENDAR