BEGIN:VCALENDAR
VERSION:2.0
PRODID:-//Rochester Philharmonic Orchestra - ECPv6.15.20//NONSGML v1.0//EN
CALSCALE:GREGORIAN
METHOD:PUBLISH
X-WR-CALNAME:Rochester Philharmonic Orchestra
X-ORIGINAL-URL:https://rpo.org
X-WR-CALDESC:Events for Rochester Philharmonic Orchestra
REFRESH-INTERVAL;VALUE=DURATION:PT1H
X-Robots-Tag:noindex
X-PUBLISHED-TTL:PT1H
BEGIN:VTIMEZONE
TZID:America/New_York
BEGIN:DAYLIGHT
TZOFFSETFROM:-0500
TZOFFSETTO:-0400
TZNAME:EDT
DTSTART:20260308T070000
END:DAYLIGHT
BEGIN:STANDARD
TZOFFSETFROM:-0400
TZOFFSETTO:-0500
TZNAME:EST
DTSTART:20261101T060000
END:STANDARD
BEGIN:DAYLIGHT
TZOFFSETFROM:-0500
TZOFFSETTO:-0400
TZNAME:EDT
DTSTART:20270314T070000
END:DAYLIGHT
BEGIN:STANDARD
TZOFFSETFROM:-0400
TZOFFSETTO:-0500
TZNAME:EST
DTSTART:20271107T060000
END:STANDARD
BEGIN:DAYLIGHT
TZOFFSETFROM:-0500
TZOFFSETTO:-0400
TZNAME:EDT
DTSTART:20280312T070000
END:DAYLIGHT
BEGIN:STANDARD
TZOFFSETFROM:-0400
TZOFFSETTO:-0500
TZNAME:EST
DTSTART:20281105T060000
END:STANDARD
END:VTIMEZONE
BEGIN:VEVENT
DTSTART;TZID=America/New_York:20270325T193000
DTEND;TZID=America/New_York:20270325T210000
DTSTAMP:20260424T065158
CREATED:20260325T184414Z
LAST-MODIFIED:20260325T184414Z
UID:10000358-1806003000-1806008400@rpo.org
SUMMARY:Schumann’s Cello Concerto with Annie Jacobs-Perkins
DESCRIPTION:Rochester native and Eastman alumna Annie Jacobs-Perkins performs Schumann’s Cello Concerto\, guided by conductor Kensho Watanabe. Kevin Puts’ Virelai\, inspired by medieval poet Guillaume de Machaut\, opens with bright textures and lively rhythms. Schumann’s concerto is lyrical and intimate\, with the cello leading a conversation with the orchestra. The program closes with Sibelius’ Symphony No. 1\, full of sweeping melodies and dramatic energy. Audiences will enjoy the mix of solo artistry and orchestral power\, experiencing both expressive storytelling and dynamic musical contrasts. \nAnnie grew up in Rochester and studied with former RPO Assistant Principal Cellist Kathleen Murphy Kemp at the Hochstein School of Music and Dance (age 5-17). She was a part of the Rochester Philharmonic Youth Orchestra for five years and remembers sectionals with many members of the cello section–it is really one of Annie’s dreams to come home and play with the orchestra that raised her. 
URL:https://rpo.org/event/schumanns-cello-concerto-with-annie-jacobs-perkins/
LOCATION:Kodak Hall at Eastman Theatre\, 60 Gibbs Street\, Rochester\, NY\, 14604\, United States
CATEGORIES:Philharmonics
ATTACH;FMTTYPE=image/png:https://rpo.org/wp-content/uploads/2026/03/RPO_WEBSITE_933x933_2627_Feature-Image_PHILS_13.png
END:VEVENT
BEGIN:VEVENT
DTSTART;TZID=America/New_York:20270327T193000
DTEND;TZID=America/New_York:20270327T210000
DTSTAMP:20260424T065158
CREATED:20260325T184251Z
LAST-MODIFIED:20260325T184251Z
UID:10000359-1806175800-1806181200@rpo.org
SUMMARY:Schumann’s Cello Concerto with Annie Jacobs-Perkins
DESCRIPTION:Rochester native Annie Jacobs-Perkins performs Schumann’s Cello Concerto\, guided by conductor Kensho Watanabe. Kevin Puts’ Virelai\, inspired by medieval poet Guillaume de Machaut\, opens with bright textures and lively rhythms. Schumann’s concerto is lyrical and intimate\, with the cello leading a conversation with the orchestra. The program closes with Sibelius’ Symphony No. 1\, full of sweeping melodies and dramatic energy. Audiences will enjoy the mix of solo artistry and orchestral power\, experiencing both expressive storytelling and dynamic musical contrasts. \nAnnie grew up in Rochester and studied with former RPO Assistant Principal Cellist Kathleen Murphy Kemp at the Hochstein School of Music and Dance (age 5-17). She was a part of the Rochester Philharmonic Youth Orchestra for five years and remembers sectionals with many members of the cello section–it is really one of Annie’s dreams to come home and play with the orchestra that raised her. 
URL:https://rpo.org/event/schumanns-cello-concerto-with-annie-jacobs-perkins-2/
LOCATION:Kodak Hall at Eastman Theatre\, 60 Gibbs Street\, Rochester\, NY\, 14604\, United States
CATEGORIES:Philharmonics
ATTACH;FMTTYPE=image/png:https://rpo.org/wp-content/uploads/2026/03/RPO_WEBSITE_933x933_2627_Feature-Image_PHILS_13.png
END:VEVENT
END:VCALENDAR