BEGIN:VCALENDAR
VERSION:2.0
PRODID:-//Rochester Philharmonic Orchestra - ECPv6.15.20//NONSGML v1.0//EN
CALSCALE:GREGORIAN
METHOD:PUBLISH
X-WR-CALNAME:Rochester Philharmonic Orchestra
X-ORIGINAL-URL:https://rpo.org
X-WR-CALDESC:Events for Rochester Philharmonic Orchestra
REFRESH-INTERVAL;VALUE=DURATION:PT1H
X-Robots-Tag:noindex
X-PUBLISHED-TTL:PT1H
BEGIN:VTIMEZONE
TZID:America/New_York
BEGIN:DAYLIGHT
TZOFFSETFROM:-0500
TZOFFSETTO:-0400
TZNAME:EDT
DTSTART:20260308T070000
END:DAYLIGHT
BEGIN:STANDARD
TZOFFSETFROM:-0400
TZOFFSETTO:-0500
TZNAME:EST
DTSTART:20261101T060000
END:STANDARD
BEGIN:DAYLIGHT
TZOFFSETFROM:-0500
TZOFFSETTO:-0400
TZNAME:EDT
DTSTART:20270314T070000
END:DAYLIGHT
BEGIN:STANDARD
TZOFFSETFROM:-0400
TZOFFSETTO:-0500
TZNAME:EST
DTSTART:20271107T060000
END:STANDARD
BEGIN:DAYLIGHT
TZOFFSETFROM:-0500
TZOFFSETTO:-0400
TZNAME:EDT
DTSTART:20280312T070000
END:DAYLIGHT
BEGIN:STANDARD
TZOFFSETFROM:-0400
TZOFFSETTO:-0500
TZNAME:EST
DTSTART:20281105T060000
END:STANDARD
END:VTIMEZONE
BEGIN:VEVENT
DTSTART;TZID=America/New_York:20270319T193000
DTEND;TZID=America/New_York:20270319T210000
DTSTAMP:20260420T125400
CREATED:20260326T175442Z
LAST-MODIFIED:20260326T175442Z
UID:10000390-1805484600-1805490000@rpo.org
SUMMARY:Uptown Classics:  The Songs of Billy Joel
DESCRIPTION:Get ready for an unforgettable night of music\, memories\, and pure symphonic rock & roll energy as Billy Joel’s greatest hits burst to life like you’ve never heard them before. With the soulful vocalist and dynamic pianist Paul Loren at center stage and GRAMMY winner Jeff  Tyzik’s brilliant orchestrations\, this concert experience is a full-throttle celebration of one of the greatest songwriters of our time. Audiences will be on their feet for favorites like Uptown Girl\, For the Longest Time\, Only the Good Die Young\, and You May Be Right\, while lush arrangements of New York State of Mind\, Vienna\, She’s Always a Woman\, and And So It Goes showcase Joel’s timeless ballads. From the instant nostalgia of Piano Man to the high-octane punch of Movin’ Out and It’s Still Rock ’n Roll to Me\, this symphonic celebration brings the pure excitement of Billy Joel’s beloved music to your RPO.
URL:https://rpo.org/event/uptown-classics-the-songs-of-billy-joel/
LOCATION:Kodak Hall at Eastman Theatre\, 60 Gibbs Street\, Rochester\, NY\, 14604\, United States
CATEGORIES:Pops
ATTACH;FMTTYPE=image/png:https://rpo.org/wp-content/uploads/2026/02/RPO_WEBSITE_933x933_2627_Feature-Image_POPS_7.png
END:VEVENT
BEGIN:VEVENT
DTSTART;TZID=America/New_York:20270320T193000
DTEND;TZID=America/New_York:20270320T210000
DTSTAMP:20260420T125400
CREATED:20260326T175543Z
LAST-MODIFIED:20260326T175543Z
UID:10000391-1805571000-1805576400@rpo.org
SUMMARY:Uptown Classics:  The Songs of Billy Joel
DESCRIPTION:Get ready for an unforgettable night of music\, memories\, and pure symphonic rock & roll energy as Billy Joel’s greatest hits burst to life like you’ve never heard them before. With the soulful vocalist and dynamic pianist Paul Loren at center stage and GRAMMY winner Jeff  Tyzik’s brilliant orchestrations\, this concert experience is a full-throttle celebration of one of the greatest songwriters of our time. Audiences will be on their feet for favorites like Uptown Girl\, For the Longest Time\, Only the Good Die Young\, and You May Be Right\, while lush arrangements of New York State of Mind\, Vienna\, She’s Always a Woman\, and And So It Goes showcase Joel’s timeless ballads. From the instant nostalgia of Piano Man to the high-octane punch of Movin’ Out and It’s Still Rock ’n Roll to Me\, this symphonic celebration brings the pure excitement of Billy Joel’s beloved music to your RPO.
URL:https://rpo.org/event/uptown-classics-the-songs-of-billy-joel-2/
LOCATION:Kodak Hall at Eastman Theatre\, 60 Gibbs Street\, Rochester\, NY\, 14604\, United States
CATEGORIES:Pops
ATTACH;FMTTYPE=image/png:https://rpo.org/wp-content/uploads/2026/02/RPO_WEBSITE_933x933_2627_Feature-Image_POPS_7.png
END:VEVENT
END:VCALENDAR